BEGIN:VCALENDAR
METHOD:PUBLISH
VERSION:2.0
PRODID:-//Eventilla iCal Syndication//NONSGML Liana//EN
BEGIN:VEVENT
UID:3QeW3@eventilla.com
DTSTAMP:20260602T053000Z
DTSTART:20260602T053000Z
DTEND:20260602T110000Z
SUMMARY:Sastamala Business Forum
DESCRIPTION:Kasvun voima - Sastamalasta maailmalle!\nSastamala Business Forum tarjoaa inspiraatiota\, verkostoitumista ja uusia mahdollisuuksia yhteistyöhön.\nOhjelma:\n8.30 ilmoittautuminen (iltapäivän vierailukohteen valinta) ja aamukahvit ja puurobaari\n9.00 tilaisuuden avaus: kaupunginjohtaja Jarkko Malmberg\, Sastamalan kaupunki\n9.15 puheenvuorot\n\naluejohtaja Pia Kiuru\, Finnvera\ntoimitusjohtaja Panu Niemi\, Niemen Tehtaat\ntoimitusjohtaja Jani Hämäläinen\, Teknikum Group\nemeritusprofessori Risto Harisalo\, Tampereen yliopistoMikä on klassisen liberalismin viesti ajallemme?\nCOO Petteri Tanner\, Dragon Mining\nteknologiajohtaja Riku Päärni\, Lounea\n\n11.30 lounas\n12.30 vierailu kasvuyrityksiin tai oppimisympäristöihin (kohteisiin rajallinen osallistujamäärä; valitse itsellesi kiinnostava kohde tilaisuudessa ilmoittautumisen yhteydessä)\n\nLastux Oy\n\n\nLastux Oy on erikoistunut vaativaan metallin työstöön\, kuten koneistukseen\, hitsaukseen ja kokoonpanotöihin. Yritys suunnittelee ja valmistaa työkaluja sekä mittavälineitä\, ja suuri osa tuotteista menee vientiin.\n\n\nVexve Oy\n\n\nVexve Oy on johtava eurooppalainen venttiiliratkaisujen toimittaja\, joka on erikoistunut energiainfrastruktuurin (kuten kaukolämmön ja -kylmän) ja energiaintensiivisen teollisuuden kriittisiin venttiileihin.\n\n\nSASKY oppimisympäristöt\n\n\nSaskyn Sastamalan oppimisympäristöt tarjoavat moderneja\, teollisuusyhteistyöllä kehitettyjä tiloja.\n \n\nTilaisuus päättyy klo 14 mennessä.\n \nTilaisuus on maksuton ja avoin kaikille kiinnostuneille. Tarjoiluiden vuoksi ilmoittautuminen alla olevan linkin kautta 25.5. mennessä\nTilaisuuden mahdollistavat:Lounea\, Aito Säästöpankki ja SASKY
LOCATION:Vexve Areena\, Ratakatu 5\, 38210\, Sastamala
URL:http://tapahtumat.sastamala.fi/sbf
END:VEVENT
END:VCALENDAR
